BEGIN:VCALENDAR
VERSION:2.0
PRODID:-//WCDC - ECPv6.15.20//NONSGML v1.0//EN
CALSCALE:GREGORIAN
METHOD:PUBLISH
X-WR-CALNAME:WCDC
X-ORIGINAL-URL:https://woodcountydem.org
X-WR-CALDESC:Events for WCDC
REFRESH-INTERVAL;VALUE=DURATION:PT1H
X-Robots-Tag:noindex
X-PUBLISHED-TTL:PT1H
BEGIN:VTIMEZONE
TZID:UTC
BEGIN:STANDARD
TZOFFSETFROM:+0000
TZOFFSETTO:+0000
TZNAME:UTC
DTSTART:20250101T000000
END:STANDARD
END:VTIMEZONE
BEGIN:VEVENT
DTSTART;VALUE=DATE:20260422
DTEND;VALUE=DATE:20260425
DTSTAMP:20260422T041645
CREATED:20260412T214616Z
LAST-MODIFIED:20260412T214616Z
UID:41729-1776816000-1777075199@woodcountydem.org
SUMMARY:Early Voting for City/School Elections
DESCRIPTION:Early Voting for will be held at the entities. \nCheck with your entity for times
URL:https://woodcountydem.org/event/early-voting-for-city-school-elections-2/
END:VEVENT
END:VCALENDAR