BEGIN:VCALENDAR
VERSION:2.0
PRODID:-//WCDC - ECPv6.15.20//NONSGML v1.0//EN
CALSCALE:GREGORIAN
METHOD:PUBLISH
X-WR-CALNAME:WCDC
X-ORIGINAL-URL:https://woodcountydem.org
X-WR-CALDESC:Events for WCDC
REFRESH-INTERVAL;VALUE=DURATION:PT1H
X-Robots-Tag:noindex
X-PUBLISHED-TTL:PT1H
BEGIN:VTIMEZONE
TZID:UTC
BEGIN:STANDARD
TZOFFSETFROM:+0000
TZOFFSETTO:+0000
TZNAME:UTC
DTSTART:20250101T000000
END:STANDARD
END:VTIMEZONE
BEGIN:VEVENT
DTSTART;TZID=UTC:20260225T070000
DTEND;TZID=UTC:20260225T190000
DTSTAMP:20260419T122645
CREATED:20260122T173429Z
LAST-MODIFIED:20260122T173429Z
UID:41655-1772002800-1772046000@woodcountydem.org
SUMMARY:Vote Early in Person
DESCRIPTION:
URL:https://woodcountydem.org/event/vote-early-in-person-8/
LOCATION:Carroll Green Civic Center\, 602 McAllister St.\, Quitman\, TX\, 75783\, United States
END:VEVENT
END:VCALENDAR