BEGIN:VCALENDAR
VERSION:2.0
PRODID:-//WCDC - ECPv6.15.20//NONSGML v1.0//EN
CALSCALE:GREGORIAN
METHOD:PUBLISH
X-WR-CALNAME:WCDC
X-ORIGINAL-URL:https://woodcountydem.org
X-WR-CALDESC:Events for WCDC
REFRESH-INTERVAL;VALUE=DURATION:PT1H
X-Robots-Tag:noindex
X-PUBLISHED-TTL:PT1H
BEGIN:VTIMEZONE
TZID:UTC
BEGIN:STANDARD
TZOFFSETFROM:+0000
TZOFFSETTO:+0000
TZNAME:UTC
DTSTART:20230101T000000
END:STANDARD
END:VTIMEZONE
BEGIN:VEVENT
DTSTART;TZID=UTC:20240903T110000
DTEND;TZID=UTC:20240903T150000
DTSTAMP:20260420T041544
CREATED:20240903T111506Z
LAST-MODIFIED:20240903T162848Z
UID:41549-1725361200-1725375600@woodcountydem.org
SUMMARY:Northeast Texas Democratic Rally
DESCRIPTION:Carrol Green Civic Center\, Quitman\, Tx
URL:https://woodcountydem.org/event/northeast-texas-democratic-rally/
END:VEVENT
END:VCALENDAR